BEGIN:VCALENDAR
VERSION:2.0
PRODID:-//LiUNA! Local 362 - ECPv6.15.20//NONSGML v1.0//EN
CALSCALE:GREGORIAN
METHOD:PUBLISH
X-WR-CALNAME:LiUNA! Local 362
X-ORIGINAL-URL:https://liunalocal362.org
X-WR-CALDESC:Events for LiUNA! Local 362
REFRESH-INTERVAL;VALUE=DURATION:PT1H
X-Robots-Tag:noindex
X-PUBLISHED-TTL:PT1H
BEGIN:VTIMEZONE
TZID:America/Chicago
BEGIN:DAYLIGHT
TZOFFSETFROM:-0600
TZOFFSETTO:-0500
TZNAME:CDT
DTSTART:20250309T080000
END:DAYLIGHT
BEGIN:STANDARD
TZOFFSETFROM:-0500
TZOFFSETTO:-0600
TZNAME:CST
DTSTART:20251102T070000
END:STANDARD
BEGIN:DAYLIGHT
TZOFFSETFROM:-0600
TZOFFSETTO:-0500
TZNAME:CDT
DTSTART:20260308T080000
END:DAYLIGHT
BEGIN:STANDARD
TZOFFSETFROM:-0500
TZOFFSETTO:-0600
TZNAME:CST
DTSTART:20261101T070000
END:STANDARD
BEGIN:DAYLIGHT
TZOFFSETFROM:-0600
TZOFFSETTO:-0500
TZNAME:CDT
DTSTART:20270314T080000
END:DAYLIGHT
BEGIN:STANDARD
TZOFFSETFROM:-0500
TZOFFSETTO:-0600
TZNAME:CST
DTSTART:20271107T070000
END:STANDARD
END:VTIMEZONE
BEGIN:VEVENT
DTSTART;TZID=America/Chicago:20260203T090000
DTEND;TZID=America/Chicago:20260203T100000
DTSTAMP:20260424T035834
CREATED:20260203T151012Z
LAST-MODIFIED:20260203T151012Z
UID:10000155-1770109200-1770112800@liunalocal362.org
SUMMARY:Tinervin Volunteering
DESCRIPTION:
URL:https://liunalocal362.org/event/tinervin-volunteering/
LOCATION:Tinervin’s\, 2032 Warehouse rd.\, Normal\, IL\, 61761
END:VEVENT
BEGIN:VEVENT
DTSTART;TZID=America/Chicago:20260203T183000
DTEND;TZID=America/Chicago:20260203T200000
DTSTAMP:20260424T035834
CREATED:20250410T161743Z
LAST-MODIFIED:20251124T223241Z
UID:10000053-1770143400-1770148800@liunalocal362.org
SUMMARY:Union Meeting
DESCRIPTION:
URL:https://liunalocal362.org/event/union-meeting/2026-02-03/
LOCATION:LiUNA! 362 Union Hall\, 2012 Fox Creek Road\, Bloomington\, IL\, 61701\, United States
END:VEVENT
BEGIN:VEVENT
DTSTART;TZID=America/Chicago:20260217T090000
DTEND;TZID=America/Chicago:20260217T100000
DTSTAMP:20260424T035834
CREATED:20260203T151040Z
LAST-MODIFIED:20260203T151040Z
UID:10000156-1771318800-1771322400@liunalocal362.org
SUMMARY:Tinervin Volunteering
DESCRIPTION:
URL:https://liunalocal362.org/event/tinervin-volunteering-2/
END:VEVENT
END:VCALENDAR